BEGIN:VCALENDAR
VERSION:2.0
PRODID:-//Yogaleela - ECPv6.15.15//NONSGML v1.0//EN
CALSCALE:GREGORIAN
METHOD:PUBLISH
X-ORIGINAL-URL:https://www.yogaleela.de
X-WR-CALDESC:Veranstaltungen für Yogaleela
REFRESH-INTERVAL;VALUE=DURATION:PT1H
X-Robots-Tag:noindex
X-PUBLISHED-TTL:PT1H
BEGIN:VTIMEZONE
TZID:Europe/Berlin
BEGIN:DAYLIGHT
TZOFFSETFROM:+0100
TZOFFSETTO:+0200
TZNAME:CEST
DTSTART:20250330T010000
END:DAYLIGHT
BEGIN:STANDARD
TZOFFSETFROM:+0200
TZOFFSETTO:+0100
TZNAME:CET
DTSTART:20251026T010000
END:STANDARD
BEGIN:DAYLIGHT
TZOFFSETFROM:+0100
TZOFFSETTO:+0200
TZNAME:CEST
DTSTART:20260329T010000
END:DAYLIGHT
BEGIN:STANDARD
TZOFFSETFROM:+0200
TZOFFSETTO:+0100
TZNAME:CET
DTSTART:20261025T010000
END:STANDARD
BEGIN:DAYLIGHT
TZOFFSETFROM:+0100
TZOFFSETTO:+0200
TZNAME:CEST
DTSTART:20270328T010000
END:DAYLIGHT
BEGIN:STANDARD
TZOFFSETFROM:+0200
TZOFFSETTO:+0100
TZNAME:CET
DTSTART:20271031T010000
END:STANDARD
END:VTIMEZONE
BEGIN:VEVENT
DTSTART;VALUE=DATE:20260321
DTEND;VALUE=DATE:20260322
DTSTAMP:20260421T163639
CREATED:20260210T084629Z
LAST-MODIFIED:20260210T085122Z
UID:19025-1774051200-1774137599@www.yogaleela.de
SUMMARY:Stille im Geist – Live Online Tagesworkshop
DESCRIPTION:Stille im Geist – Live Online Tagesworkshop –  21. März 2026\nViele Menschen hören\, dass Stille heilsam sei dass sie Klarheit\, Entlastung und Orientierung schenkt. Doch sobald der Versuch beginnt\, still zu werden\, geschieht oft das Gegenteil: Gedanken werden lauter\, der Geist unruhiger\, innere Kommentare nehmen zu. Zurück bleibt Frustration und das Gefühl\, Stille sei unerreichbar. \nDieser Tagesworkshop setzt genau an diesem Punkt an. Stille wird hier nicht als Zustand verstanden\, den man herstellen muss\, und auch nicht als Abwesenheit von Gedanken. Vielmehr geht es darum zu erkennen\, was Stille jenseits des Denkens ist als der Raum\, in dem Gedanken auftauchen und wieder vergehen. Aus diesem Verständnis entsteht ein neuer\, erfahrbarer Zugang. \nTermin: 21. März 2026\nZeiten: 9 – 17 Uhr mit PausenFormat: Live-Online-Workshop via Zoom \nHaben Sie Fragen zu Inhalten oder zum Ablauf?Gerne beraten wir Sie persönlich. \nTelefon: +49 160 94910461E-Mail: info@yogaleela.de \nInhalte & Ablauf des Online-Workshops „Stille im Geist“\nDer Workshop verbindet kurze inhaltliche Impulse mit längeren Phasen direkter Erfahrung. Ziel ist es\, Stille nicht als Konzept zu verstehen\, sondern als etwas unmittelbar Zugängliches zu entdecken. \nIm Workshop erwarten dich:\n\n\nEinführung in das Missverständnis von StilleWarum der Versuch\, direkt still zu werden\, oft scheitert und was stattdessen einen Zugang eröffnet. \n\n\nWas ist Stille – und was nicht?Abgrenzung von Ruhe\, Entspannung und Gedankenkontrolle. Stille als Raum von Bewusstsein. \n\n\nDer Dschungel der GedankenWie Gedanken entstehen\, sich bewegen und wieder verschwinden ohne dass wir sie steuern müssen. \n\n\nWer oder was denkt?Erforschung der Frage\, wer Gedanken wahrnimmt\, ohne sie zu unterdrücken oder zu analysieren. \n\n\nAngeleitete Praxisphasen in StilleSitz- und Gehmeditation\, Wahrnehmungsübungen und offene Aufmerksamkeit auch mit offenen Augen. \n\n\nUmgang mit Unruhe\, Widerstand und LangeweileWas tun\, wenn es „nicht still wird“ und warum genau das Teil des Weges ist. \n\n\nStille jenseits der formalen MeditationWie Stille im Alltag erfahrbar bleibt: im Gespräch\, bei Entscheidungen\, im Umgang mit Stress. \n\n\nIntegration und TransferWie sich die Erfahrung von Stille nachhaltig in den eigenen Alltag integrieren lässt. \n\n\nRaum für Fragen und freiwilligen AustauschGemeinsame Klärung am Ende des Tages ohne Diskussionen\, die aus der Erfahrung herausführen.
URL:https://www.yogaleela.de/event/stille-im-geist-live-online-tagesworkshop/
LOCATION:Online vi Zoom
ATTACH;FMTTYPE=image/jpeg:https://www.yogaleela.de/wp-content/uploads/Ich-lerne-in-meiner-Geschwindigkeit-mp3-image.jpg
ORGANIZER;CN="Yogaleela":MAILTO:kontakt@david-vosen.de
END:VEVENT
END:VCALENDAR