BEGIN:VCALENDAR
VERSION:2.0
PRODID:-//Yogaleela - ECPv6.15.15//NONSGML v1.0//EN
CALSCALE:GREGORIAN
METHOD:PUBLISH
X-WR-CALNAME:Yogaleela
X-ORIGINAL-URL:https://www.yogaleela.de
X-WR-CALDESC:Veranstaltungen für Yogaleela
REFRESH-INTERVAL;VALUE=DURATION:PT1H
X-Robots-Tag:noindex
X-PUBLISHED-TTL:PT1H
BEGIN:VTIMEZONE
TZID:Europe/Berlin
BEGIN:DAYLIGHT
TZOFFSETFROM:+0100
TZOFFSETTO:+0200
TZNAME:CEST
DTSTART:20240331T010000
END:DAYLIGHT
BEGIN:STANDARD
TZOFFSETFROM:+0200
TZOFFSETTO:+0100
TZNAME:CET
DTSTART:20241027T010000
END:STANDARD
BEGIN:DAYLIGHT
TZOFFSETFROM:+0100
TZOFFSETTO:+0200
TZNAME:CEST
DTSTART:20250330T010000
END:DAYLIGHT
BEGIN:STANDARD
TZOFFSETFROM:+0200
TZOFFSETTO:+0100
TZNAME:CET
DTSTART:20251026T010000
END:STANDARD
BEGIN:DAYLIGHT
TZOFFSETFROM:+0100
TZOFFSETTO:+0200
TZNAME:CEST
DTSTART:20260329T010000
END:DAYLIGHT
BEGIN:STANDARD
TZOFFSETFROM:+0200
TZOFFSETTO:+0100
TZNAME:CET
DTSTART:20261025T010000
END:STANDARD
BEGIN:DAYLIGHT
TZOFFSETFROM:+0100
TZOFFSETTO:+0200
TZNAME:CEST
DTSTART:20270328T010000
END:DAYLIGHT
BEGIN:STANDARD
TZOFFSETFROM:+0200
TZOFFSETTO:+0100
TZNAME:CET
DTSTART:20271031T010000
END:STANDARD
END:VTIMEZONE
BEGIN:VEVENT
DTSTART;VALUE=DATE:20260321
DTEND;VALUE=DATE:20260322
DTSTAMP:20260419T165007
CREATED:20260210T084629Z
LAST-MODIFIED:20260210T085122Z
UID:19025-1774051200-1774137599@www.yogaleela.de
SUMMARY:Stille im Geist – Live Online Tagesworkshop
DESCRIPTION:Stille im Geist – Live Online Tagesworkshop –  21. März 2026\nViele Menschen hören\, dass Stille heilsam sei dass sie Klarheit\, Entlastung und Orientierung schenkt. Doch sobald der Versuch beginnt\, still zu werden\, geschieht oft das Gegenteil: Gedanken werden lauter\, der Geist unruhiger\, innere Kommentare nehmen zu. Zurück bleibt Frustration und das Gefühl\, Stille sei unerreichbar. \nDieser Tagesworkshop setzt genau an diesem Punkt an. Stille wird hier nicht als Zustand verstanden\, den man herstellen muss\, und auch nicht als Abwesenheit von Gedanken. Vielmehr geht es darum zu erkennen\, was Stille jenseits des Denkens ist als der Raum\, in dem Gedanken auftauchen und wieder vergehen. Aus diesem Verständnis entsteht ein neuer\, erfahrbarer Zugang. \nTermin: 21. März 2026\nZeiten: 9 – 17 Uhr mit PausenFormat: Live-Online-Workshop via Zoom \nHaben Sie Fragen zu Inhalten oder zum Ablauf?Gerne beraten wir Sie persönlich. \nTelefon: +49 160 94910461E-Mail: info@yogaleela.de \nInhalte & Ablauf des Online-Workshops „Stille im Geist“\nDer Workshop verbindet kurze inhaltliche Impulse mit längeren Phasen direkter Erfahrung. Ziel ist es\, Stille nicht als Konzept zu verstehen\, sondern als etwas unmittelbar Zugängliches zu entdecken. \nIm Workshop erwarten dich:\n\n\nEinführung in das Missverständnis von StilleWarum der Versuch\, direkt still zu werden\, oft scheitert und was stattdessen einen Zugang eröffnet. \n\n\nWas ist Stille – und was nicht?Abgrenzung von Ruhe\, Entspannung und Gedankenkontrolle. Stille als Raum von Bewusstsein. \n\n\nDer Dschungel der GedankenWie Gedanken entstehen\, sich bewegen und wieder verschwinden ohne dass wir sie steuern müssen. \n\n\nWer oder was denkt?Erforschung der Frage\, wer Gedanken wahrnimmt\, ohne sie zu unterdrücken oder zu analysieren. \n\n\nAngeleitete Praxisphasen in StilleSitz- und Gehmeditation\, Wahrnehmungsübungen und offene Aufmerksamkeit auch mit offenen Augen. \n\n\nUmgang mit Unruhe\, Widerstand und LangeweileWas tun\, wenn es „nicht still wird“ und warum genau das Teil des Weges ist. \n\n\nStille jenseits der formalen MeditationWie Stille im Alltag erfahrbar bleibt: im Gespräch\, bei Entscheidungen\, im Umgang mit Stress. \n\n\nIntegration und TransferWie sich die Erfahrung von Stille nachhaltig in den eigenen Alltag integrieren lässt. \n\n\nRaum für Fragen und freiwilligen AustauschGemeinsame Klärung am Ende des Tages ohne Diskussionen\, die aus der Erfahrung herausführen.
URL:https://www.yogaleela.de/event/stille-im-geist-live-online-tagesworkshop/
LOCATION:Online vi Zoom
ATTACH;FMTTYPE=image/jpeg:https://www.yogaleela.de/wp-content/uploads/Ich-lerne-in-meiner-Geschwindigkeit-mp3-image.jpg
ORGANIZER;CN="Yogaleela":MAILTO:kontakt@david-vosen.de
END:VEVENT
BEGIN:VEVENT
DTSTART;VALUE=DATE:20260221
DTEND;VALUE=DATE:20260223
DTSTAMP:20260419T165007
CREATED:20250720T173351Z
LAST-MODIFIED:20250726T114946Z
UID:15138-1771632000-1771804799@www.yogaleela.de
SUMMARY:Yogalehrer Ausbildung in Bad Salzungen
DESCRIPTION:Namaste sei willkommen\, \nIch freue mich sehr\, dass du dich für unsere „ Yogalehrer Ausbildung  “  interessierst und den Weg deines Herzens\, der Achtsamkeit und der Selbsterkenntnis\, gehen möchtest. Hier findest Du alle Infos\, Termine & Preise über die kommenden Yogalehrer Ausbildungen in Bad Salzungen. \nYogalehrer Ausbildung – Bad Salzungen – Thüringen\nStart nächste Ausbildungsgruppe:  21. Februar 2026 \nmehr Infos – Termine & Preise\nUnsere Yogalehrer Ausbildung bietet dir nicht nur fundiertes Wissen über die uralte Praxis des Yoga\, sondern auch die Möglichkeit\, deine eigene innere Balance zu stärken und andere auf ihrem Weg zu begleiten. \nEgal\, ob du Yoga für dich selbst vertiefen oder deine Leidenschaft mit anderen teilen möchtest\, bei uns findest du die perfekte Mischung aus Theorie\, Praxis und Herz. Tauche ein in eine inspirierende Gemeinschaft und entdecke\, wie Yoga dein Leben bereichern kann. \nWir freuen uns darauf\, dich auf deinem Weg zum Yogalehrer zu begleiten!
URL:https://www.yogaleela.de/event/yogalehrer-ausbildung-in-bad-salzungen/
LOCATION:Yogazentrum Yogaleela\, Leimbacherstraße 86\, Bad Salzungen\, Thüringen\, 36433\, Germany
ATTACH;FMTTYPE=image/jpeg:https://www.yogaleela.de/wp-content/uploads/Meer-9-scaled.jpg
ORGANIZER;CN="Yogaleela":MAILTO:kontakt@david-vosen.de
END:VEVENT
BEGIN:VEVENT
DTSTART;VALUE=DATE:20260204
DTEND;VALUE=DATE:20260209
DTSTAMP:20260419T165007
CREATED:20250729T104905Z
LAST-MODIFIED:20250729T104905Z
UID:15834-1770163200-1770595199@www.yogaleela.de
SUMMARY:Meditationslehrer Ausbildung – Kunst der Meditation
DESCRIPTION:Meditationslehrer Ausbildung – Kunst der Meditation\nLive Online Weiterbildung in Meditation\, Achtsamkeit und Atem mit Julia Kalijyoti &Swami Kalki kala \nTermin: 04. – 08.02.2026 \nMeditation ist eine der wertvollsten Praktiken für ein erfülltes\, glückliches und gesundes Leben und doch wird sie oft unterschätzt. Vielleicht hast du dir auch schon gedacht: „Ich habe keine Zeit\, ich kann nicht still sitzen\, ich finde keine passende Technik.“ Genau das dachte ich auch bis ich entdeckt habe\, wie transformierend und bereichernd Meditation sein kann. \nMeditation leicht gemacht\nMeditation zu erlernen kann Spaß machen und bietet dir die Möglichkeit\, nachhaltig positive Veränderungen in deinem Leben zu bewirken. Gerade in einer Zeit\, in der vieles um uns herum in Bewegung ist\, schenkt dir Meditation innere Ruhe\, mehr Fokus und eine höhere Stressresilienz. Mit klarer Ausrichtung und Leichtigkeit kannst du deinen Alltag neu erleben. \nWas dich erwartet\nIn unserer Ausbildung teile ich mit dir: \n\nKraftvolle Meditationstechniken\nPraktische Achtsamkeitsübungen\nPrana Vidya das Wissen um die Lebensenergie:\n\nPranayama (rhythmische Atmung)\nDharana (Konzentration)\nDhyana (Meditation)\n\n\n\nWenn Du Fragen zur Ausbildung hast\,\nRuf mich doch einfach an +49 171 5213578 oder +49 160 949 10 461 \n\n\nWas du während dieser Meditationslehrer Ausbildung erfahren wirst:\n\n\n\n\n\ndie Stille als Quelle deiner Ressourcen zu erkennen\ndein Gedankenkarussell zu stoppen\nwie du deine Selbstliebe stärken kannst\nwie du spürbar mehr Lebensfreude gewinnst\nwie du besser schlafen kannst\ndeinen Körper und deinen Geist besser zu regenerieren\nkörperliche und Emotionale Intelligenz zu kultivieren\ndein Bewusstsein zu erhöhen\ndeine Zukunft bewusst erschaffen\nwie du deinen Focus findest\nMeditationsarten und Meditationstechniken: Mantra-Meditation\, Schüttelnmeditation\, Tratak\, Energiemeditation\, Eigenschaftsmeditation\, Ausdehnungsmeditation\, Sakshi Bhav (Vipassana)\, Metta Meditation\, abstrakte Meditationstechniken: Laya Chintana\, Neti Neti\, Mahavakya\, Abedha Bodha Vakya\, Gehmeditation\, Hawaiianische und Peruanische Meditationen\nDu lernst\, Dein eigenes Leben auf eine andere\, vielleicht völlig neue Art und Weise zu betrachten\nden Blickwickeln zu verändern\nSelbstheilung zu aktivieren Reifeprozess in Dir initiieren\nÜbungen um mehr und mehr zu Dir zu finden\n\n\n\ndeine Kali Jyoti & Kalki Kala \nmehr Infos…
URL:https://www.yogaleela.de/event/meditationslehrer-ausbildung-kunst-der-meditation/
LOCATION:Online vi Zoom
ATTACH;FMTTYPE=image/jpeg:https://www.yogaleela.de/wp-content/uploads/123552948_1079672172451938_7557488553261400274_n.jpg
ORGANIZER;CN="Yogaleela":MAILTO:kontakt@david-vosen.de
END:VEVENT
BEGIN:VEVENT
DTSTART;TZID=Europe/Berlin:20251010T190000
DTEND;TZID=Europe/Berlin:20251010T210000
DTSTAMP:20260419T165007
CREATED:20250708T112732Z
LAST-MODIFIED:20250723T091943Z
UID:14851-1760122800-1760130000@www.yogaleela.de
SUMMARY:Meditationsabende – Raum für Dich mit Julia Vosen
DESCRIPTION:Meditationsabende – Raum für Stille\, Klang und inneres Erleben\nIn einer Welt\, die oft laut und schnell ist\, bieten unsere Meditationsabende eine wertvolle Möglichkeit\, innezuhalten und wieder bei sich selbst anzukommen. In entspannter Atmosphäre laden wir dich ein\, regelmäßig gemeinsam mit uns in die Tiefe zu gehen achtsam\, still\, geführt und begleitet. \nUnsere Abende sind für alle offen ob mit oder ohne Vorerfahrung. Sie finden regelmäßig statt und bieten dir eine wohltuende Auszeit vom Alltag. Du kannst einfach ankommen\, loslassen und dich von der Energie der Gruppe tragen lassen. \nWas dich erwartet\nUnsere Meditationsabende sind vielfältig gestaltet und verbinden verschiedene Formen der meditativen Praxis: \n\n\nGeführte Meditationen – sanft angeleitet mit Worten\, inneren Bildern und Achtsamkeit \n\n\nTraumreisen – tief entspannende Reisen nach innen zur Stärkung von Intuition und Selbstvertrauen \n\n\nKlangmeditationen – mit Klangschalen\, Gongs oder anderen Instrumenten\, die Körper und Geist in Schwingung bringen \n\n\nStille Meditationen – Sitzen in Präsenz und Achtsamkeit\, ganz ohne Anleitung \n\n\nAtem- und Körperwahrnehmungsübungen\, achtsame Bewegung und kurze Impulse zum Einstieg runden viele Abende ab. \n\n\nJeder Abend ist einzigartig und wird von uns thematisch abgestimmt. So entsteht ein lebendiger Rhythmus aus Ruhe\, Tiefe und sanfter Inspiration. \nWarum gemeinsam meditieren?\nIn der Gruppe zu meditieren schafft einen stärkenden Raum. Die gemeinsame Stille wirkt intensiver\, die Erfahrung wird tiefer getragen. Viele Teilnehmende empfinden unsere Meditationsabende als Kraftquelle\, Zufluchtsort und Impulsgeber für ihren Alltag. \nFür wen ist das Angebot geeignet?\nUnsere Meditationsabende richten sich an: \n\n\nMenschen\, die regelmäßig zur Ruhe kommen möchten \n\n\nEinsteiger*innen\, die einen sanften Zugang zur Meditation suchen \n\n\nErfahrene Meditierende\, die neue Impulse oder Gemeinschaft schätzen \n\n\nAlle\, die sich selbst begegnen\, loslassen und neue Kraft schöpfen möchten \n\n\nWann und wo?\nDie Meditationsabende finden regelmäßig in unserem Yogazentrum statt – in einem achtsam gestalteten Raum mit liebevoller Atmosphäre.Die aktuellen Termine findest du auf unserer Website. \nKomm gern vorbei – zum Lauschen\, Spüren\, Atmen\, Stillwerden.Wir freuen uns auf dich.
URL:https://www.yogaleela.de/event/meditationsabende-raum-fuer-dich-mit-julia-vosen-2/
LOCATION:Yogazentrum Yogaleela\, Leimbacherstraße 86\, Bad Salzungen\, Thüringen\, 36433\, Germany
ATTACH;FMTTYPE=image/jpeg:https://www.yogaleela.de/wp-content/uploads/yoga-4489430_1920.jpg
ORGANIZER;CN="Yogaleela":MAILTO:kontakt@david-vosen.de
END:VEVENT
END:VCALENDAR