BEGIN:VCALENDAR
VERSION:2.0
PRODID:-//Yogaleela - ECPv6.15.15//NONSGML v1.0//EN
CALSCALE:GREGORIAN
METHOD:PUBLISH
X-ORIGINAL-URL:https://www.yogaleela.de
X-WR-CALDESC:Veranstaltungen für Yogaleela
REFRESH-INTERVAL;VALUE=DURATION:PT1H
X-Robots-Tag:noindex
X-PUBLISHED-TTL:PT1H
BEGIN:VTIMEZONE
TZID:Europe/Berlin
BEGIN:DAYLIGHT
TZOFFSETFROM:+0100
TZOFFSETTO:+0200
TZNAME:CEST
DTSTART:20250330T010000
END:DAYLIGHT
BEGIN:STANDARD
TZOFFSETFROM:+0200
TZOFFSETTO:+0100
TZNAME:CET
DTSTART:20251026T010000
END:STANDARD
BEGIN:DAYLIGHT
TZOFFSETFROM:+0100
TZOFFSETTO:+0200
TZNAME:CEST
DTSTART:20260329T010000
END:DAYLIGHT
BEGIN:STANDARD
TZOFFSETFROM:+0200
TZOFFSETTO:+0100
TZNAME:CET
DTSTART:20261025T010000
END:STANDARD
BEGIN:DAYLIGHT
TZOFFSETFROM:+0100
TZOFFSETTO:+0200
TZNAME:CEST
DTSTART:20270328T010000
END:DAYLIGHT
BEGIN:STANDARD
TZOFFSETFROM:+0200
TZOFFSETTO:+0100
TZNAME:CET
DTSTART:20271031T010000
END:STANDARD
END:VTIMEZONE
BEGIN:VEVENT
DTSTART;VALUE=DATE:20260606
DTEND;VALUE=DATE:20260608
DTSTAMP:20260421T154751
CREATED:20260210T084231Z
LAST-MODIFIED:20260210T084231Z
UID:19023-1780704000-1780876799@www.yogaleela.de
SUMMARY:Finde die Stille in dir – 2-tägiges Seminar
DESCRIPTION:Finde die Stille in dir – 2-tägiges Seminar\nViele Menschen hören\, dass Stille heilsam sei.Dass sie Klarheit bringt\, Entlastung\, Orientierung.Und doch erleben die meisten genau das Gegenteil\, sobald sie versuchen\, still zu werden: Der Geist wird unruhiger\, Gedanken drängen sich auf\, innere Kommentare nehmen zu. Frustration entsteht und oft der Eindruck\, man „könne“ Stille einfach nicht. \nDieses 2-tägige Seminar-Retreat setzt genau hier an. \nTermin: 06. – 07.06.2026Format: Präsenz-Seminar-Retreat im\nReferenten: Julia Vosen & Swami Kalki Kala \nYogazentrum – Yogaleela Bad Salzungen\nLeimbacher Str 86\n36433 Bad Salzungen \nStille ist kein Zustand\, den man herstellen oder erzwingen kann.Sie ist auch nicht die Abwesenheit von Gedanken.Vielmehr ist sie der Raum\, in dem Gedanken erscheinen\, sich bewegen und wieder verschwinden. Wer versucht\, direkt in die Stille zu gelangen\, verstrickt sich häufig tiefer im Denken. Erst ein anderes Verständnis öffnet einen neuen Zugang. \nIm Verlauf der zwei Tage wird diesem Verständnis Raum gegeben. In einfachen\, klar angeleiteten Übungen\, stillen Phasen und kurzen inhaltlichen Impulsen kann Stille erfahrbar werden nicht als Ziel\, sondern als Hintergrund dessen\, was ohnehin geschieht. Ohne Druck. Ohne Erwartung. \nHaben Sie Fragen zu Inhalten oder zum Ablauf?Kontaktieren Sie uns gerne für ein persönliches Gespräch: \nTelefon: +49 160 94910461E-Mail: info@yogaleela.de \nInhalte & Ablauf des 2-tägigen Seminar-Retreats\n„Finde die Stille in dir“ \nDas Seminar verbindet kurze inhaltliche Impulse mit ausgedehnten Phasen direkter Erfahrung. Ziel ist es\, Stille nicht als Idee zu verstehen\, sondern als etwas\, das im eigenen Erleben zugänglich werden kann. \nIm Seminar erwarten Sie unter anderem: \n\n\nGrundlegende Zugänge zur StilleWarum der Wunsch nach Stille oft Anspannung erzeugt – und wie ein anderer Zugang möglich wird. \n\n\nStille und DenkenUnterscheidung zwischen geistiger Aktivität und dem Raum\, in dem Denken geschieht. \n\n\nBewegungen des Geistes wahrnehmenWie Gedanken auftauchen\, sich verändern und wieder vergehen – ohne Eingreifen. \n\n\nWer nimmt wahr?Sanfte Annäherung an die Frage nach dem Wahrnehmenden\, ohne Analyse oder Konzepte. \n\n\nAngeleitete PraxisphasenSitzmeditation\, Gehmeditation und offene Wahrnehmungsübungen in Stille. \n\n\nUmgang mit innerer UnruheWas geschieht\, wenn Langeweile\, Widerstand oder Ungeduld auftauchen – und wie damit umgegangen werden kann. \n\n\nStille im AlltagWie sich die Erfahrung von Stille im täglichen Leben wiederfinden lässt – im Handeln\, im Gespräch\, im Entscheiden. \n\n\nIntegrationRaum\, um das Erlebte einzuordnen und für den eigenen Alltag fruchtbar werden zu lassen. \n\n\nFragen und AustauschGemeinsame Klärung in ruhigem Rahmen\, orientiert an der eigenen Erfahrung.
URL:https://www.yogaleela.de/event/finde-die-stille-in-dir-2-taegiges-seminar/
LOCATION:Yogazentrum Yogaleela\, Leimbacherstraße 86\, Bad Salzungen\, Thüringen\, 36433\, Germany
ATTACH;FMTTYPE=image/jpeg:https://www.yogaleela.de/wp-content/uploads/236134236_1260856461000174_6696476826493386585_n.jpg
ORGANIZER;CN="Yogaleela":MAILTO:kontakt@david-vosen.de
END:VEVENT
END:VCALENDAR